BEGIN:VCALENDAR
VERSION:2.0
PRODID:GIGPRESS 2.0 WORDPRESS PLUGIN
CALSCALE:GREGORIAN
X-WR-TIMEZONE:Etc/GMT
METHOD:PUBLISH
BEGIN:VTIMEZONE
TZID:GMT
BEGIN:STANDARD
DTSTART:20071028T010000
TZOFFSETTO:+0000
TZOFFSETFROM:+0000
END:STANDARD
END:VTIMEZONE
BEGIN:VEVENT
SUMMARY:Tanzwut - Rockshow \, Kärbholz Heimspiel
DESCRIPTION:Anmerkungen: Tanzwut spielen an einem der Veranstaltungstage. All Ages
LOCATION:Kärbholz Heimspiel\, Am Freibad 1\, Windeck\, DE
UID:20260604T153000Z-378-management@tanzwut.com
URL:https://tanzwut.com
DTSTART;VALUE=DATE-TIME;TZID=GMT:20260604T153000Z
DTEND;VALUE=DATE-TIME;TZID=GMT:20260606T153000Z
DTSTAMP:20260419T010111Z
END:VEVENT
END:VCALENDAR